BEGIN:VCALENDAR
VERSION:2.0
PRODID:-// - ECPv6.15.20//NONSGML v1.0//EN
CALSCALE:GREGORIAN
METHOD:PUBLISH
X-ORIGINAL-URL:https://croconnected.com
X-WR-CALDESC:Events for 
REFRESH-INTERVAL;VALUE=DURATION:PT1H
X-Robots-Tag:noindex
X-PUBLISHED-TTL:PT1H
BEGIN:VTIMEZONE
TZID:UTC
BEGIN:STANDARD
TZOFFSETFROM:+0000
TZOFFSETTO:+0000
TZNAME:UTC
DTSTART:20210101T000000
END:STANDARD
END:VTIMEZONE
BEGIN:VEVENT
DTSTART;TZID=UTC:20230117T080000
DTEND;TZID=UTC:20230117T170000
DTSTAMP:20260422T192426
CREATED:20221014T103052Z
LAST-MODIFIED:20221014T103052Z
UID:2305-1673942400-1673974800@croconnected.com
SUMMARY:Predictive Hiring Course
DESCRIPTION:
URL:https://croconnected.com/event/predictive-hiring-course-6
CATEGORIES:Accredited course
END:VEVENT
BEGIN:VEVENT
DTSTART;TZID=UTC:20221201T103000
DTEND;TZID=UTC:20221201T113000
DTSTAMP:20260422T192426
CREATED:20221024T141730Z
LAST-MODIFIED:20221024T141730Z
UID:2367-1669890600-1669894200@croconnected.com
SUMMARY:Prevent Stress & Burnout Course with Sales Psyche
DESCRIPTION:
URL:https://croconnected.com/event/prevent-stress-burnout-course-with-sales-psyche-4
CATEGORIES:Accredited course
END:VEVENT
BEGIN:VEVENT
DTSTART;VALUE=DATE:20221129
DTEND;VALUE=DATE:20221130
DTSTAMP:20260422T192426
CREATED:20221014T103017Z
LAST-MODIFIED:20221014T103017Z
UID:2303-1669680000-1669766399@croconnected.com
SUMMARY:Predictive Hiring Course
DESCRIPTION:
URL:https://croconnected.com/event/predictive-hiring-course-5
CATEGORIES:Accredited course
END:VEVENT
BEGIN:VEVENT
DTSTART;TZID=UTC:20221118T103000
DTEND;TZID=UTC:20221118T233000
DTSTAMP:20260422T192426
CREATED:20221024T141639Z
LAST-MODIFIED:20221024T141639Z
UID:2365-1668767400-1668814200@croconnected.com
SUMMARY:Prevent Stress & Burnout Course with Sales Psyche
DESCRIPTION:
URL:https://croconnected.com/event/prevent-stress-burnout-course-with-sales-psyche-3
CATEGORIES:Accredited course
END:VEVENT
BEGIN:VEVENT
DTSTART;VALUE=DATE:20221115
DTEND;VALUE=DATE:20221116
DTSTAMP:20260422T192426
CREATED:20221014T102949Z
LAST-MODIFIED:20221014T102949Z
UID:2301-1668470400-1668556799@croconnected.com
SUMMARY:Predictive Hiring Course
DESCRIPTION:
URL:https://croconnected.com/event/predictive-hiring-course-4
CATEGORIES:Accredited course
END:VEVENT
BEGIN:VEVENT
DTSTART;TZID=UTC:20221111T103000
DTEND;TZID=UTC:20221111T113000
DTSTAMP:20260422T192426
CREATED:20221024T141607Z
LAST-MODIFIED:20221024T141607Z
UID:2363-1668162600-1668166200@croconnected.com
SUMMARY:Prevent Stress & Burnout Course with Sales Psyche
DESCRIPTION:
URL:https://croconnected.com/event/prevent-stress-burnout-course-with-sales-psyche-2
CATEGORIES:Accredited course
END:VEVENT
BEGIN:VEVENT
DTSTART;VALUE=DATE:20221101
DTEND;VALUE=DATE:20221102
DTSTAMP:20260422T192426
CREATED:20221014T102911Z
LAST-MODIFIED:20221014T102911Z
UID:2299-1667260800-1667347199@croconnected.com
SUMMARY:Predictive Hiring Course
DESCRIPTION:
URL:https://croconnected.com/event/predictive-hiring-course-3
CATEGORIES:Accredited course
END:VEVENT
BEGIN:VEVENT
DTSTART;TZID=UTC:20221028T103000
DTEND;TZID=UTC:20221028T233000
DTSTAMP:20260422T192426
CREATED:20221024T141501Z
LAST-MODIFIED:20221024T141513Z
UID:2361-1666953000-1666999800@croconnected.com
SUMMARY:Prevent Stress & Burnout Course with Sales Psyche
DESCRIPTION:
URL:https://croconnected.com/event/prevent-stress-burnout-course-with-sales-psyche
CATEGORIES:Accredited course
END:VEVENT
BEGIN:VEVENT
DTSTART;VALUE=DATE:20221021
DTEND;VALUE=DATE:20221022
DTSTAMP:20260422T192426
CREATED:20221013T142317Z
LAST-MODIFIED:20221014T103701Z
UID:2287-1666310400-1666396799@croconnected.com
SUMMARY:Accredited Course - How to Manage Stress & Burnout.
DESCRIPTION:Q4 Program – How to manage stress and burnout – Accredited course
URL:https://croconnected.com/event/accredited-course-how-to-manage-stress-and-burnout
CATEGORIES:Accredited course
END:VEVENT
BEGIN:VEVENT
DTSTART;VALUE=DATE:20221019
DTEND;VALUE=DATE:20221020
DTSTAMP:20260422T192426
CREATED:20221014T102848Z
LAST-MODIFIED:20221014T102848Z
UID:2297-1666137600-1666223999@croconnected.com
SUMMARY:Predictive Hiring Course
DESCRIPTION:
URL:https://croconnected.com/event/predictive-hiring-course-2
CATEGORIES:Accredited course
END:VEVENT
BEGIN:VEVENT
DTSTART;VALUE=DATE:20221004
DTEND;VALUE=DATE:20221005
DTSTAMP:20260422T192426
CREATED:20221014T102801Z
LAST-MODIFIED:20221014T102801Z
UID:2295-1664841600-1664927999@croconnected.com
SUMMARY:Predictive Hiring Course
DESCRIPTION:
URL:https://croconnected.com/event/predictive-hiring-course
CATEGORIES:Accredited course
END:VEVENT
END:VCALENDAR