BEGIN:VCALENDAR
VERSION:2.0
PRODID:-// - ECPv6.15.20//NONSGML v1.0//EN
CALSCALE:GREGORIAN
METHOD:PUBLISH
X-ORIGINAL-URL:https://croconnected.com
X-WR-CALDESC:Events for 
REFRESH-INTERVAL;VALUE=DURATION:PT1H
X-Robots-Tag:noindex
X-PUBLISHED-TTL:PT1H
BEGIN:VTIMEZONE
TZID:Europe/London
BEGIN:DAYLIGHT
TZOFFSETFROM:+0000
TZOFFSETTO:+0100
TZNAME:BST
DTSTART:20240331T010000
END:DAYLIGHT
BEGIN:STANDARD
TZOFFSETFROM:+0100
TZOFFSETTO:+0000
TZNAME:GMT
DTSTART:20241027T010000
END:STANDARD
BEGIN:DAYLIGHT
TZOFFSETFROM:+0000
TZOFFSETTO:+0100
TZNAME:BST
DTSTART:20250330T010000
END:DAYLIGHT
BEGIN:STANDARD
TZOFFSETFROM:+0100
TZOFFSETTO:+0000
TZNAME:GMT
DTSTART:20251026T010000
END:STANDARD
BEGIN:DAYLIGHT
TZOFFSETFROM:+0000
TZOFFSETTO:+0100
TZNAME:BST
DTSTART:20260329T010000
END:DAYLIGHT
BEGIN:STANDARD
TZOFFSETFROM:+0100
TZOFFSETTO:+0000
TZNAME:GMT
DTSTART:20261025T010000
END:STANDARD
END:VTIMEZONE
BEGIN:VEVENT
DTSTART;TZID=Europe/London:20251010T103000
DTEND;TZID=Europe/London:20251010T113000
DTSTAMP:20260420T014735
CREATED:20240905T110617Z
LAST-MODIFIED:20240906T101511Z
UID:6149-1760092200-1760095800@croconnected.com
SUMMARY:CRO Connected Roundtable: What is Thought-Leadership? How Do You Do It Right & How Do You Leverage it to Generate Demand
DESCRIPTION:https://us02web.zoom.us/j/9052168606 \nMeeting ID: 905 216 8606
URL:https://croconnected.com/event/cro-connected-roundtable-what-is-thought-leadership-how-do-you-do-it-right-how-do-you-leverage-it-to-generate-demand
CATEGORIES:Round Tables
END:VEVENT
END:VCALENDAR