BEGIN:VCALENDAR
VERSION:2.0
PRODID:-// - ECPv6.15.20//NONSGML v1.0//EN
CALSCALE:GREGORIAN
METHOD:PUBLISH
X-ORIGINAL-URL:https://croconnected.com
X-WR-CALDESC:Events for 
REFRESH-INTERVAL;VALUE=DURATION:PT1H
X-Robots-Tag:noindex
X-PUBLISHED-TTL:PT1H
BEGIN:VTIMEZONE
TZID:Europe/London
BEGIN:DAYLIGHT
TZOFFSETFROM:+0000
TZOFFSETTO:+0100
TZNAME:BST
DTSTART:20230326T010000
END:DAYLIGHT
BEGIN:STANDARD
TZOFFSETFROM:+0100
TZOFFSETTO:+0000
TZNAME:GMT
DTSTART:20231029T010000
END:STANDARD
BEGIN:DAYLIGHT
TZOFFSETFROM:+0000
TZOFFSETTO:+0100
TZNAME:BST
DTSTART:20240331T010000
END:DAYLIGHT
BEGIN:STANDARD
TZOFFSETFROM:+0100
TZOFFSETTO:+0000
TZNAME:GMT
DTSTART:20241027T010000
END:STANDARD
BEGIN:DAYLIGHT
TZOFFSETFROM:+0000
TZOFFSETTO:+0100
TZNAME:BST
DTSTART:20250330T010000
END:DAYLIGHT
BEGIN:STANDARD
TZOFFSETFROM:+0100
TZOFFSETTO:+0000
TZNAME:GMT
DTSTART:20251026T010000
END:STANDARD
BEGIN:DAYLIGHT
TZOFFSETFROM:+0000
TZOFFSETTO:+0100
TZNAME:BST
DTSTART:20260329T010000
END:DAYLIGHT
BEGIN:STANDARD
TZOFFSETFROM:+0100
TZOFFSETTO:+0000
TZNAME:GMT
DTSTART:20261025T010000
END:STANDARD
END:VTIMEZONE
BEGIN:VEVENT
DTSTART;TZID=Europe/London:20251121T103000
DTEND;TZID=Europe/London:20251121T113000
DTSTAMP:20260420T043358
CREATED:20240905T110909Z
LAST-MODIFIED:20240906T101652Z
UID:6155-1763721000-1763724600@croconnected.com
SUMMARY:CRO Connected Surgery
DESCRIPTION:https://us02web.zoom.us/j/9052168606 \nMeeting ID: 905 216 8606
URL:https://croconnected.com/event/cro-connected-surgery-11
CATEGORIES:Surgery
END:VEVENT
BEGIN:VEVENT
DTSTART;TZID=Europe/London:20251024T103000
DTEND;TZID=Europe/London:20251024T103000
DTSTAMP:20260420T043358
CREATED:20240905T110706Z
LAST-MODIFIED:20240906T101554Z
UID:6151-1761301800-1761301800@croconnected.com
SUMMARY:CRO Connected Surgery
DESCRIPTION:https://us02web.zoom.us/j/9052168606 \nMeeting ID: 905 216 8606
URL:https://croconnected.com/event/cro-connected-surgery-10
CATEGORIES:CRO Surgery,Surgery
END:VEVENT
BEGIN:VEVENT
DTSTART;TZID=Europe/London:20250919T103000
DTEND;TZID=Europe/London:20250919T113000
DTSTAMP:20260420T043358
CREATED:20240905T110442Z
LAST-MODIFIED:20240906T101436Z
UID:6147-1758277800-1758281400@croconnected.com
SUMMARY:CRO Connected Surgery
DESCRIPTION:https://us02web.zoom.us/j/9052168606 \nMeeting ID: 905 216 8606
URL:https://croconnected.com/event/cro-connected-surgery-9
CATEGORIES:Surgery
END:VEVENT
BEGIN:VEVENT
DTSTART;TZID=Europe/London:20250321T103000
DTEND;TZID=Europe/London:20250321T113000
DTSTAMP:20260420T043358
CREATED:20240905T104136Z
LAST-MODIFIED:20240906T100931Z
UID:6127-1742553000-1742556600@croconnected.com
SUMMARY:CRO Connected Surgery
DESCRIPTION:https://us02web.zoom.us/j/9052168606 \nMeeting ID: 905 216 8606
URL:https://croconnected.com/event/cro-connected-surgery-5
CATEGORIES:Surgery
END:VEVENT
BEGIN:VEVENT
DTSTART;TZID=Europe/London:20250221T103000
DTEND;TZID=Europe/London:20250221T113000
DTSTAMP:20260420T043358
CREATED:20240905T103612Z
LAST-MODIFIED:20240906T100805Z
UID:6123-1740133800-1740137400@croconnected.com
SUMMARY:CRO Connected Surgery
DESCRIPTION:https://us02web.zoom.us/j/9052168606 \nMeeting ID: 905 216 8606
URL:https://croconnected.com/event/cro-connected-surgery-4
CATEGORIES:Surgery
END:VEVENT
BEGIN:VEVENT
DTSTART;TZID=Europe/London:20241022T160000
DTEND;TZID=Europe/London:20241022T170000
DTSTAMP:20260420T043358
CREATED:20240905T102633Z
LAST-MODIFIED:20240906T100506Z
UID:6109-1729612800-1729616400@croconnected.com
SUMMARY:CRO Connected Surgery
DESCRIPTION:https://us02web.zoom.us/j/9052168606 \nMeeting ID: 905 216 8606
URL:https://croconnected.com/event/cro-connected-surgery-2
CATEGORIES:Surgery
END:VEVENT
BEGIN:VEVENT
DTSTART;TZID=Europe/London:20240920T103000
DTEND;TZID=Europe/London:20240920T113000
DTSTAMP:20260420T043358
CREATED:20240905T102313Z
LAST-MODIFIED:20240906T100339Z
UID:6104-1726828200-1726831800@croconnected.com
SUMMARY:CRO Connected Surgery
DESCRIPTION:https://us02web.zoom.us/j/9052168606 \nMeeting ID: 905 216 8606
URL:https://croconnected.com/event/cro-connected-surgery
CATEGORIES:Surgery
END:VEVENT
END:VCALENDAR