BEGIN:VCALENDAR
VERSION:2.0
PRODID:-// - ECPv6.15.20//NONSGML v1.0//EN
CALSCALE:GREGORIAN
METHOD:PUBLISH
X-ORIGINAL-URL:https://croconnected.com
X-WR-CALDESC:Events for 
REFRESH-INTERVAL;VALUE=DURATION:PT1H
X-Robots-Tag:noindex
X-PUBLISHED-TTL:PT1H
BEGIN:VTIMEZONE
TZID:UTC
BEGIN:STANDARD
TZOFFSETFROM:+0000
TZOFFSETTO:+0000
TZNAME:UTC
DTSTART:20250101T000000
END:STANDARD
END:VTIMEZONE
BEGIN:VEVENT
DTSTART;TZID=UTC:20261112T150000
DTEND;TZID=UTC:20261112T160000
DTSTAMP:20260419T132954
CREATED:20260330T104144Z
LAST-MODIFIED:20260415T131316Z
UID:6590-1794495600-1794499200@croconnected.com
SUMMARY:CRO Connected Roundtable
DESCRIPTION:https://us02web.zoom.us/j/9052168606 \nMeeting ID: 905 216 8606
URL:https://croconnected.com/event/cro-connected-roundtable-13
END:VEVENT
BEGIN:VEVENT
DTSTART;TZID=UTC:20261126T150000
DTEND;TZID=UTC:20261126T160000
DTSTAMP:20260419T132954
CREATED:20260330T104221Z
LAST-MODIFIED:20260415T131351Z
UID:6593-1795705200-1795708800@croconnected.com
SUMMARY:CRO Connected Roundtable
DESCRIPTION:https://us02web.zoom.us/j/9052168606 \nMeeting ID: 905 216 8606
URL:https://croconnected.com/event/cro-connected-roundtable-14
END:VEVENT
BEGIN:VEVENT
DTSTART;TZID=UTC:20261210T150000
DTEND;TZID=UTC:20261210T160000
DTSTAMP:20260419T132954
CREATED:20260330T104311Z
LAST-MODIFIED:20260415T131448Z
UID:6595-1796914800-1796918400@croconnected.com
SUMMARY:CRO Connected Roundtable
DESCRIPTION:https://us02web.zoom.us/j/9052168606 \nMeeting ID: 905 216 8606
URL:https://croconnected.com/event/cro-connected-roundtable-15
END:VEVENT
END:VCALENDAR